BEGIN:VCALENDAR
VERSION:2.0
PRODID:-//GLITSS - ECPv6.15.16//NONSGML v1.0//EN
CALSCALE:GREGORIAN
METHOD:PUBLISH
X-WR-CALNAME:GLITSS
X-ORIGINAL-URL:https://glitss.eu
X-WR-CALDESC:Events for GLITSS
REFRESH-INTERVAL;VALUE=DURATION:PT1H
X-Robots-Tag:noindex
X-PUBLISHED-TTL:PT1H
BEGIN:VTIMEZONE
TZID:UTC
BEGIN:STANDARD
TZOFFSETFROM:+0000
TZOFFSETTO:+0000
TZNAME:UTC
DTSTART:20220101T000000
END:STANDARD
END:VTIMEZONE
BEGIN:VEVENT
DTSTART;VALUE=DATE:20231006
DTEND;VALUE=DATE:20231007
DTSTAMP:20260419T142005
CREATED:20230913T151457Z
LAST-MODIFIED:20240117T155159Z
UID:10000008-1696550400-1696636799@glitss.eu
SUMMARY:Sanction Evasion
DESCRIPTION:Sanctions evasion has become an increasingly significant global issue\, posing challenges for governments\, international organizations\, and businesses alike. The workshop will provide participants with a comprehensive understanding of sanctions evasion\, including its underlying causes\, typologies\, evolving trends\, and key actors Involved. It will explore the role of the private sector (e.g.\, financial institutions) in detecting and preventing sanctions evasion; discuss strategies for enhancing trade controls to mitigate the risk of sanctions evasion\, as well as raise awareness about the importance of compliance with sanctions regimes and explore effective risk management techniques to mitigate the risk of involvement in sanctions evasion.
URL:https://glitss.eu/event/sanction-evasion/
LOCATION:University of Luxembourg
CATEGORIES:Workshops
ATTACH;FMTTYPE=image/jpeg:https://glitss.eu/wp-content/uploads/2023/09/eu-flag.jpg
END:VEVENT
END:VCALENDAR