BEGIN:VCALENDAR
VERSION:2.0
PRODID:-//GLITSS - ECPv6.15.16//NONSGML v1.0//EN
CALSCALE:GREGORIAN
METHOD:PUBLISH
X-ORIGINAL-URL:https://glitss.eu
X-WR-CALDESC:Events for GLITSS
REFRESH-INTERVAL;VALUE=DURATION:PT1H
X-Robots-Tag:noindex
X-PUBLISHED-TTL:PT1H
BEGIN:VTIMEZONE
TZID:UTC
BEGIN:STANDARD
TZOFFSETFROM:+0000
TZOFFSETTO:+0000
TZNAME:UTC
DTSTART:20250101T000000
END:STANDARD
END:VTIMEZONE
BEGIN:VEVENT
DTSTART;VALUE=DATE:20260219
DTEND;VALUE=DATE:20260221
DTSTAMP:20260420T012625
CREATED:20260224T143443Z
LAST-MODIFIED:20260224T143443Z
UID:10000057-1771459200-1771631999@glitss.eu
SUMMARY:Final Workshop – GLITSS Trilogy – Volume 1 Successfully Held 
DESCRIPTION:The GLITSS is pleased to announce that the Final Workshop of GLITSS Trilogy – Volume 1\, Illicit Trade and its Consequences for Safety\, Security and Sustainability\, was successfully held on 19–20 February. The workshop was hosted by the University of Tirana\, at the Faculty of Natural Sciences\, University of Tirana\, within the Department of Informatics\, Faculty of Natural Sciences\, University of Tirana\, Albania. Over the course of two days\, scholars and experts engaged in in-depth discussions on the complex and evolving nature of illicit trade and its far-reaching consequences for safety\, security\, and sustainability. Particular emphasis was placed on emerging digital dimensions\, cybercrime\, governance frameworks\, and the broader implications for sustainable development and global stability. \nThe Final Workshop marked the successful conclusion of Volume 1 of the GLITSS Trilogy\, reaffirming the project’s commitment to fostering interdisciplinary research and international academic collaboration. GLITSS extends its sincere appreciation to all contributors\, presenters\, discussants\, and participants whose expertise and engagement made this event a meaningful and productive exchange. We look forward to continuing this important work in the next phase.
URL:https://glitss.eu/event/final-workshop-glitss-trilogy-volume-1-successfully-held/
LOCATION:University of Tirana
CATEGORIES:Highlights from Our Workshop
ATTACH;FMTTYPE=image/jpeg:https://glitss.eu/wp-content/uploads/2026/02/WhatsApp-Image-2026-02-22-at-08.22.13.jpeg
END:VEVENT
BEGIN:VEVENT
DTSTART;VALUE=DATE:20260330
DTEND;VALUE=DATE:20260401
DTSTAMP:20260420T012625
CREATED:20260414T054518Z
LAST-MODIFIED:20260414T054518Z
UID:10000059-1774828800-1775001599@glitss.eu
SUMMARY:We are very pleased to announce that GLITSS successfully held a workshop on 30 - 31 March to advance Volume 2 of the GLITSS Trilogy
DESCRIPTION:We are very pleased to announce that GLITSS successfully held a workshop on 30 – 31 March to advance Volume 2 of the GLITSS Trilogy\, titled Understanding the Causes of Illicit Trade. The workshop was hosted by the Estonian Academy of Security Sciences in Tallinn. \nOver the two days\, authors from diverse disciplinary backgrounds sought to clarify the types and nature of the causes of illicit trade\, while developing a shared understanding. The goal is to produce a coherent and comprehensive book that provides students\, researchers\, academics\, practitioners\, and policymakers with a clear understanding of the factors driving illicit trade and the mechanisms through which they operate. \nGLITSS thanks all workshop participants for their contributions\, which marked a significant step forward in the book-writing journey and demonstrated a strong commitment to supporting its completion in the upcoming stages.
URL:https://glitss.eu/event/we-are-very-pleased-to-announce-that-glitss-successfully-held-a-workshop-on-30-31-march-to-advance-volume-2-of-the-glitss-trilogy/
LOCATION:University of Tirana
CATEGORIES:Highlights from Our Workshop
ATTACH;FMTTYPE=image/jpeg:https://glitss.eu/wp-content/uploads/2026/04/WhatsApp-Image-2026-03-31-at-10.03.11.jpeg
END:VEVENT
BEGIN:VEVENT
DTSTART;TZID=UTC:20260423T133000
DTEND;TZID=UTC:20260423T143000
DTSTAMP:20260420T012625
CREATED:20260406T174927Z
LAST-MODIFIED:20260406T174927Z
UID:10000058-1776951000-1776954600@glitss.eu
SUMMARY:GLITSS Roundtable – Training on Illicit Trade
DESCRIPTION:We are very pleased to announce our upcoming GLITSS Roundtable – Training on Illicit Trade.\n\n Date: Thursday\, 23 April 2026\n Time: 13:30 – 14:30 (CET)\n Format: Online \nThis roundtable will explore how knowledge on illicit trade is transmitted in training and capacity-building contexts beyond academia. The discussion will focus on effective training formats\, target audiences\, teaching materials\, and ways to bridge academic research with practical expertise. \nThe objective is to identify useful practices that can inform future educational resources and initiatives within and beyond the GLITSS network. We warmly encourage anyone interested in the topic to attend. Participants will also have the opportunity to share their experiences and contribute to the discussion\, including during the Q&A session at the end. \nSpeakers: Hennie van As\, Ilona Dumanska\, Emilia Ziosi\nModerators: Francesca Finelli\, Lucas Tosi Rodriguez \n Register now and secure your spot using the link:\nhttps://rug-nl.zoom.us/meeting/register/TguD610wS7uiVZfzSU1Yew#/registration \nWe look forward to an engaging discussion and exchange of ideas. Feel free to reach out if you need additional information.
URL:https://glitss.eu/event/glitss-roundtable-training-on-illicit-trade/
CATEGORIES:Roundtable
ATTACH;FMTTYPE=image/png:https://glitss.eu/wp-content/uploads/2026/04/Workshop-Promotions_Social-Media.png
END:VEVENT
END:VCALENDAR