BEGIN:VCALENDAR
VERSION:2.0
PRODID:-//GLITSS - ECPv6.15.16//NONSGML v1.0//EN
CALSCALE:GREGORIAN
METHOD:PUBLISH
X-ORIGINAL-URL:https://glitss.eu
X-WR-CALDESC:Events for GLITSS
REFRESH-INTERVAL;VALUE=DURATION:PT1H
X-Robots-Tag:noindex
X-PUBLISHED-TTL:PT1H
BEGIN:VTIMEZONE
TZID:UTC
BEGIN:STANDARD
TZOFFSETFROM:+0000
TZOFFSETTO:+0000
TZNAME:UTC
DTSTART:20250101T000000
END:STANDARD
END:VTIMEZONE
BEGIN:VEVENT
DTSTART;TZID=UTC:20260211T150000
DTEND;TZID=UTC:20260211T163000
DTSTAMP:20260419T181912
CREATED:20260201T142452Z
LAST-MODIFIED:20260201T142452Z
UID:10000056-1770822000-1770827400@glitss.eu
SUMMARY:Crimes involving high-value unique goods (HVUG) are increasingly seen and strategically used as financialized instruments
DESCRIPTION:Crimes involving high-value unique goods (HVUG) are increasingly seen and strategically used as financialized instruments. \n Date: February 11th\, 2026\n Time: 15:00–16:30 CET \n🎟 Register here:  https://lnkd.in/dmHBnUrU \nThis webinar is a collaboration between the PRICELESS Research Consortium and the GLITSS COST Action Working Group 1. Crimes involving high-value unique goods (HVUG) are increasingly seen and strategically used as financialized instruments. This webinar examines two types of HVUG\, namely Artworks and Watches\, and how (Financial Crime) Scripting is used as a method to analyse their role in the financial crime commission processes. The webinar will start with an introduction of the PRICELESS Research Consortium by Dr Christoph Rausch. This will be followed by four presentations by researchers within the consortium\, focusing on their respective fields of expertise. \nBronte Isabella will outline the design and scope of her 14-month ethnographic research on art appraisal in the Netherlands; Maja Dehouck will present her work on the role of art market participants as capable guardians against exploitation/abuse of market structures; and H. Konstantin Jänicke will present his research on Greyness in the Luxury Watch Sector. The final presentation will be given by Dr Thom Snaphaan and drs Katrien van Bergen\, and will explore how data on the valuation and trade of HVUG can be used for Financial Crime Scripting to uncover patterns and identify new (potential) intervention points. This session will explore the valuation and security implications of unique and financial crime-related goods\, featuring insights from leading experts: \nDiscussant:\nH. Konstantin Jänicke\, Maastricht University \nPresenters:\nDr. Christoph Rausch\, Maastricht University\nDr. Thom Snaphan\, Center of Expertise Veiligheid & Veerkracht\ndrs. Katrien van Bergen\, Center of Expertise Veiligheid & Veerkracht\nBronte Isabella\, Maastricht University\nMaja Dehouck\, University of Amsterdam \nDon’t miss this opportunity to engage with top researchers and practitioners in the field.
URL:https://glitss.eu/event/crimes-involving-high-value-unique-goods-hvug-are-increasingly-seen-and-strategically-used-as-financialized-instruments/
CATEGORIES:Webinars
ATTACH;FMTTYPE=image/png:https://glitss.eu/wp-content/uploads/2026/02/PRICELESS-Poster-1-1.png
END:VEVENT
END:VCALENDAR