BEGIN:VCALENDAR
VERSION:2.0
PRODID:-//GLITSS - ECPv6.15.16//NONSGML v1.0//EN
CALSCALE:GREGORIAN
METHOD:PUBLISH
X-WR-CALNAME:GLITSS
X-ORIGINAL-URL:https://glitss.eu
X-WR-CALDESC:Events for GLITSS
REFRESH-INTERVAL;VALUE=DURATION:PT1H
X-Robots-Tag:noindex
X-PUBLISHED-TTL:PT1H
BEGIN:VTIMEZONE
TZID:UTC
BEGIN:STANDARD
TZOFFSETFROM:+0000
TZOFFSETTO:+0000
TZNAME:UTC
DTSTART:20240101T000000
END:STANDARD
END:VTIMEZONE
BEGIN:VEVENT
DTSTART;VALUE=DATE:20250901
DTEND;VALUE=DATE:20250903
DTSTAMP:20260422T223120
CREATED:20250914T055237Z
LAST-MODIFIED:20250915T174119Z
UID:10000052-1756684800-1756857599@glitss.eu
SUMMARY:Latest updates from our three-volume book series on safety\, security\, and sustainability
DESCRIPTION:Latest updates from our three-volume book series on safety\, security\, and sustainability. \nWe had the pleasure of holding our workshop at the University of Groningen to mark the realization of our book Volume 1\, the first in a series of three volumes. The series explores crucial global challenges through the lenses of safety\, security\, and sustainability\, bringing together diverse perspectives and interdisciplinary insights. \nA heartfelt thank you to all colleagues and partners for their valuable contributions. We look forward to continuing this journey with the upcoming volumes! Stay tuned and keep following our work on this exciting journey.
URL:https://glitss.eu/event/latest-updates-from-our-three-volume-book-series-on-safety-security-and-sustainability/
LOCATION:Univeristy of Groningen
CATEGORIES:Meetings,Workshops
ATTACH;FMTTYPE=image/jpeg:https://glitss.eu/wp-content/uploads/2025/09/4fc0e0a3-127a-43a6-9fb1-ac3ac144ecc7.jpg
END:VEVENT
BEGIN:VEVENT
DTSTART;VALUE=DATE:20250930
DTEND;VALUE=DATE:20251002
DTSTAMP:20260422T223120
CREATED:20251015T180242Z
LAST-MODIFIED:20251015T180512Z
UID:10000055-1759190400-1759363199@glitss.eu
SUMMARY:Workshop - Core Group and Deputies Meeting in Groningen in the Netherlands
DESCRIPTION:Exciting days for the GLITSS COST Action CA21133 – Globalization\, Illicit Trade\, Sustainability and Security! Last week on 30.09. and 01.10. In 2025\, we held the Core Group and Deputies Meeting in Groningen in the Netherlands\, where we discussed the strategic directions and upcoming plans for the next year of the project. \nA special focus of our discussions was on the three-volume book series that will be published next year\, Policy briefs\, Workshops\, Webinars\, Blog series\, and many more important milestones that bring together the work\, insights\, and collaborations developed through our COST Action. It was inspiring to exchange ideas\, align our goals\, and continue building this vibrant research network across Europe and beyond. \nIf you would like your research to gain more visibility and expand your professional network\, we warmly invite you to join our GLITSS activities and share your research interests. There are many opportunities to get involved in ways that best enhance you. \nA big thank you to all colleagues and contributors for their dedication and teamwork; Together\, we are making GLITSS COST Action grow stronger!
URL:https://glitss.eu/event/workshop-core-group-and-deputies-meeting-in-groningen-in-the-netherlands/
LOCATION:Univeristy of Groningen
CATEGORIES:Meetings,Workshops
ATTACH;FMTTYPE=image/jpeg:https://glitss.eu/wp-content/uploads/2025/10/1760436366222.jpeg
END:VEVENT
END:VCALENDAR