BEGIN:VCALENDAR
VERSION:2.0
PRODID:-//GLITSS - ECPv6.15.16//NONSGML v1.0//EN
CALSCALE:GREGORIAN
METHOD:PUBLISH
X-ORIGINAL-URL:https://glitss.eu
X-WR-CALDESC:Events for GLITSS
REFRESH-INTERVAL;VALUE=DURATION:PT1H
X-Robots-Tag:noindex
X-PUBLISHED-TTL:PT1H
BEGIN:VTIMEZONE
TZID:UTC
BEGIN:STANDARD
TZOFFSETFROM:+0000
TZOFFSETTO:+0000
TZNAME:UTC
DTSTART:20250101T000000
END:STANDARD
END:VTIMEZONE
BEGIN:VEVENT
DTSTART;VALUE=DATE:20260330
DTEND;VALUE=DATE:20260401
DTSTAMP:20260419T160603
CREATED:20260414T054518Z
LAST-MODIFIED:20260414T054518Z
UID:10000059-1774828800-1775001599@glitss.eu
SUMMARY:We are very pleased to announce that GLITSS successfully held a workshop on 30 - 31 March to advance Volume 2 of the GLITSS Trilogy
DESCRIPTION:We are very pleased to announce that GLITSS successfully held a workshop on 30 – 31 March to advance Volume 2 of the GLITSS Trilogy\, titled Understanding the Causes of Illicit Trade. The workshop was hosted by the Estonian Academy of Security Sciences in Tallinn. \nOver the two days\, authors from diverse disciplinary backgrounds sought to clarify the types and nature of the causes of illicit trade\, while developing a shared understanding. The goal is to produce a coherent and comprehensive book that provides students\, researchers\, academics\, practitioners\, and policymakers with a clear understanding of the factors driving illicit trade and the mechanisms through which they operate. \nGLITSS thanks all workshop participants for their contributions\, which marked a significant step forward in the book-writing journey and demonstrated a strong commitment to supporting its completion in the upcoming stages.
URL:https://glitss.eu/event/we-are-very-pleased-to-announce-that-glitss-successfully-held-a-workshop-on-30-31-march-to-advance-volume-2-of-the-glitss-trilogy/
LOCATION:University of Tirana
CATEGORIES:Highlights from Our Workshop
ATTACH;FMTTYPE=image/jpeg:https://glitss.eu/wp-content/uploads/2026/04/WhatsApp-Image-2026-03-31-at-10.03.11.jpeg
END:VEVENT
END:VCALENDAR