BEGIN:VCALENDAR
VERSION:2.0
PRODID:-//GLITSS - ECPv6.15.16//NONSGML v1.0//EN
CALSCALE:GREGORIAN
METHOD:PUBLISH
X-ORIGINAL-URL:https://glitss.eu
X-WR-CALDESC:Events for GLITSS
REFRESH-INTERVAL;VALUE=DURATION:PT1H
X-Robots-Tag:noindex
X-PUBLISHED-TTL:PT1H
BEGIN:VTIMEZONE
TZID:UTC
BEGIN:STANDARD
TZOFFSETFROM:+0000
TZOFFSETTO:+0000
TZNAME:UTC
DTSTART:20230101T000000
END:STANDARD
END:VTIMEZONE
BEGIN:VEVENT
DTSTART;VALUE=DATE:20240722
DTEND;VALUE=DATE:20240724
DTSTAMP:20260419T204110
CREATED:20240611T060052Z
LAST-MODIFIED:20240611T060052Z
UID:10000031-1721606400-1721779199@glitss.eu
SUMMARY:Migrant workers\, the unnoticed side of the workforce - evaluation in terms of legality and other aspects
DESCRIPTION:📌 The in-person workshop will take place in Istanbul\, Türkiye\,\n📆 July 22-23\, 2024\, hosted by the Yıldız Technopark University. \nAbout the Topic:\nThe workshop will focus on practices developed by local authorities\, in cooperation with European and international agencies for managing the impact of refugees and asylum seekers on the labor market and preventing illicit trade implications. Multidisciplinary theoretical reflections\, case studies\, and comparative analyses are welcomed. \nCall for abstracts:\nIf you are conducting research related to refugees and asylum seekers\, we invite you to submit an abstract to this workshop. Selected participants will have the opportunity to present their research during the workshop and contribute to valuable discussions. \nPlease submit your abstract to the Leader of WG2\, Daniela Irrera: daniela.irrera@ssuos.difesa.it by June 30th\, 2024. \nParticipants will receive official confirmation of the workshop by July 5th\, 2024. Travel and accommodation expenses related to the workshop will be covered according to the COST Action Travel Reimbursement Rules. \nTravel and accommodation expenses related to the workshop will be covered according to the COST Action Travel Reimbursement Rules. Participants are entitled to arrange their travel and accommodation plan only after the official confirmation. \nDownload the call for abstracts here
URL:https://glitss.eu/event/migrant-workers-the-unnoticed-side-of-the-workforce-evaluation-in-terms-of-legality-and-other-aspects/
LOCATION:Yıldız Technopark University\, Istanbul\, Türkiye\, Turkey
CATEGORIES:Workshops
ATTACH;FMTTYPE=image/jpeg:https://glitss.eu/wp-content/uploads/2024/06/GLITSS-Workshop-Designs-wg2.jpg
END:VEVENT
BEGIN:VEVENT
DTSTART;VALUE=DATE:20240722
DTEND;VALUE=DATE:20240724
DTSTAMP:20260419T204110
CREATED:20240726T073657Z
LAST-MODIFIED:20240726T074011Z
UID:10000034-1721606400-1721779199@glitss.eu
SUMMARY:Migrant workers\, the unnoticed side of the workforce - evaluation in terms of legality and other aspects
DESCRIPTION:This week (July 22-23)\, Cost Action GLITSS Working Group 2\, Platform: the governance of illicit trade\, held a workshop in Istanbul\, hosted by Yıldız Technopark University\, focusing on migrant workers\, the unnoticed side of the workforce\, evaluating legality and other aspects. Discussions included practices developed by local authorities in cooperation with European and international agencies to manage the impact of refugees and asylum seekers on the labour market and prevent illicit trade implications. Fourteen participants from seven countries presented case studies and theoretical methodological reflections. Special thanks to Kadir Asay\, the co-coordinator of the workshop\, and to Irem Uysal and Elifnaz Unay for organizing\, as well as to all participants for their time and research contributions.
URL:https://glitss.eu/event/migrant-workers-the-unnoticed-side-of-the-workforce-evaluation-in-terms-of-legality-and-other-aspects-2/
LOCATION:Yıldız Technopark University\, Istanbul\, Türkiye\, Turkey
CATEGORIES:Highlights from Our Workshop
ATTACH;FMTTYPE=image/jpeg:https://glitss.eu/wp-content/uploads/2024/07/Migrant-workers-workshop-1.jpg
END:VEVENT
END:VCALENDAR