BEGIN:VCALENDAR
VERSION:2.0
PRODID:-//GLITSS - ECPv6.15.16//NONSGML v1.0//EN
CALSCALE:GREGORIAN
METHOD:PUBLISH
X-WR-CALNAME:GLITSS
X-ORIGINAL-URL:https://glitss.eu
X-WR-CALDESC:Events for GLITSS
REFRESH-INTERVAL;VALUE=DURATION:PT1H
X-Robots-Tag:noindex
X-PUBLISHED-TTL:PT1H
BEGIN:VTIMEZONE
TZID:UTC
BEGIN:STANDARD
TZOFFSETFROM:+0000
TZOFFSETTO:+0000
TZNAME:UTC
DTSTART:20230101T000000
END:STANDARD
END:VTIMEZONE
BEGIN:VEVENT
DTSTART;VALUE=DATE:20240708
DTEND;VALUE=DATE:20240713
DTSTAMP:20260419T203953
CREATED:20240418T105803Z
LAST-MODIFIED:20240522T090437Z
UID:10000025-1720396800-1720828799@glitss.eu
SUMMARY:Summer School of Illicit Trade 2024
DESCRIPTION:Organized by the Global Initiative against Transnational Organized Crime (GI-TOC)\, the Illicit Trade Group and the Agricola School for Sustainable Development at the University of Groningen\, and hosted by the University of Warsaw\, the Summer School of Illicit Trade offers a unique opportunity to deepen your understanding of this pressing global issue and explore strategies for combating it. \nDelve into the multifaceted realm of illicit trade through our comprehensive one-week course set to take place at the prestigious University of Warsaw from July 8th to 12th\, 2024. Throughout this immersive experience\, participants will engage in a dynamic blend of lectures\, workshops\, case studies\, and discussions\, led by esteemed experts and practitioners in the field. Explore the intricate economic\, social\, and security implications of illicit trade\, gaining a nuanced understanding of its far-reaching effects on industries\, communities\, and global stability. \n📅 The last moment to apply is 31 May 2024.\n📍 Location: University of Warsaw.  \n👩🏻‍💻 Fees:  \n\n650€ for students\n900€ for professionals\n\nApplications will be evaluated on a rolling basis until all available spots are filled. Therefore\, we highly recommend submitting your application as soon as possible to secure your place in the program. \nLearn about the Summer School: https://www.rug.nl/education/summer-winter-schools/illicit-trade/?lang=en \nApply here: https://www.rug.nl/education/summer-winter-schools/illicit-trade/application-form
URL:https://glitss.eu/event/summer-school-of-illicit-trade-2024/
LOCATION:University of Warsaw
CATEGORIES:Training Schools
ATTACH;FMTTYPE=image/png:https://glitss.eu/wp-content/uploads/2024/04/Instagram-Post_Summer-School-2024-1.png
END:VEVENT
END:VCALENDAR